BEGIN:VCALENDAR
PRODID:-//github.com/ical-org/ical.net//NONSGML ical.net 5.2.1//EN
VERSION:2.0
BEGIN:VTIMEZONE
TZID:Europe/Amsterdam
X-LIC-LOCATION:Europe/Amsterdam
END:VTIMEZONE
BEGIN:VEVENT
DESCRIPTION:Beleef het magische poppentheater Dewi Sri voor kinderen (5+) e
 n hun ouders. Interactieve voorstelling met knutselworkshop. Ontdek de fan
 tasie en de schimmen.
DTEND;TZID=Local:20260624T163000
DTSTAMP:20260421T043709Z
DTSTART;TZID=Local:20260624T150000
LOCATION:Poppentheater De Fighter
SEQUENCE:0
SUMMARY:Het Schimmenspel - Poppentheater op het water
UID:cf7d2ba0-abd5-4722-bcb3-1f67c75f0b61
URL:https://www.uitagendarotterdam.nl/agenda/het-schimmenspel-poppentheater
 -op-het-water-5plus/
END:VEVENT
END:VCALENDAR
