BEGIN:VCALENDAR
PRODID:-//github.com/ical-org/ical.net//NONSGML ical.net 5.2.1//EN
VERSION:2.0
BEGIN:VTIMEZONE
TZID:Europe/Amsterdam
X-LIC-LOCATION:Europe/Amsterdam
END:VTIMEZONE
BEGIN:VEVENT
DESCRIPTION:The Jeroen Leenders Experience is nooit hetzelfde. Je kan ?m 
 dus onmogelijk al gezien hebben. Hooguit heb je er al eens eentje meegemaa
 kt.
DTEND;TZID=Local:20260602T213000
DTSTAMP:20260420T180643Z
DTSTART;TZID=Local:20260602T200000
LOCATION:Comedy Club Haug
SEQUENCE:0
SUMMARY:Jeroen Leenders Experience
UID:364c4411-7946-4cfd-b172-0d8993d7c588
URL:https://www.uitagendarotterdam.nl/agenda/jeroen-leenders-experience/
END:VEVENT
END:VCALENDAR
