BEGIN:VCALENDAR
PRODID:-//github.com/ical-org/ical.net//NONSGML ical.net 5.2.1//EN
VERSION:2.0
BEGIN:VTIMEZONE
TZID:Europe/Amsterdam
X-LIC-LOCATION:Europe/Amsterdam
END:VTIMEZONE
BEGIN:VEVENT
DESCRIPTION:We keren terug naar het strand van Hoek van Holland. We zijn te
  vinden bij de meest bekende en stijlvolle beachclub van het strand: Beach
 club Royal. Verwacht een zomerse avond vol herkenning\, gezelligheid en de
  allerbeste hits uit de 80?s\, 90?s\, 00?s en 10?s.
DTEND;TZID=Local:20260613T010000
DTSTAMP:20260421T092249Z
DTSTART;TZID=Local:20260613T200000
LOCATION:Beachclub Royal
SEQUENCE:0
SUMMARY:WE ALL LOVE 80?s 90?s 00?s 10?s
UID:7eac7c1f-9681-4240-b37a-752b0fc7b87a
URL:https://www.uitagendarotterdam.nl/agenda/we-all-love-80-s-90-s-00-s-10-
 s-1/
END:VEVENT
END:VCALENDAR
