BEGIN:VCALENDAR
PRODID:-//github.com/ical-org/ical.net//NONSGML ical.net 5.2.1//EN
VERSION:2.0
BEGIN:VTIMEZONE
TZID:Europe/Amsterdam
X-LIC-LOCATION:Europe/Amsterdam
END:VTIMEZONE
BEGIN:VEVENT
DESCRIPTION:80?s & More! is weer terug in Baroeg en hoe!
DTEND;TZID=Local:20260502T230000
DTSTAMP:20260422T002316Z
DTSTART;TZID=Local:20260502T190000
LOCATION:Baroeg
SEQUENCE:0
SUMMARY:80?s
UID:91d9f4a7-80b4-4799-be3c-0cdaf5ee9db2
URL:https://www.uitagendarotterdam.nl/agenda/80-s-plus-more-the-mistress-of
 -jersey-plus-1984-plus-i-found-the-cure/
END:VEVENT
END:VCALENDAR
