BEGIN:VCALENDAR
PRODID:-//github.com/ical-org/ical.net//NONSGML ical.net 5.2.1//EN
VERSION:2.0
BEGIN:VTIMEZONE
TZID:Europe/Amsterdam
X-LIC-LOCATION:Europe/Amsterdam
END:VTIMEZONE
BEGIN:VEVENT
DESCRIPTION:Oktober 10\, 2026 in Rotterdam. 50 years of Joy Division 1976-2
 026? tour.
DTSTAMP:20260421T204457Z
DTSTART;TZID=Local:20261010T190000
LOCATION:Baroeg
SEQUENCE:0
SUMMARY:80?s
UID:e00b50bb-941c-4889-9ee0-f86ec06da6d8
URL:https://www.uitagendarotterdam.nl/agenda/80-s-plus-more-joy-division-un
 dercover/
END:VEVENT
END:VCALENDAR
