BEGIN:VCALENDAR
PRODID:-//github.com/ical-org/ical.net//NONSGML ical.net 5.2.1//EN
VERSION:2.0
BEGIN:VTIMEZONE
TZID:Europe/Amsterdam
X-LIC-LOCATION:Europe/Amsterdam
END:VTIMEZONE
BEGIN:VEVENT
DESCRIPTION:50 years of positive vibration tour.
DTSTAMP:20260425T110533Z
DTSTART;TZID=Local:20260625T201500
LOCATION:De Doelen
SEQUENCE:0
SUMMARY:The Wailers het legendarische reggaecollectief van Bob Marley
UID:d5cfa49d-7e24-4dab-b457-eb837ad7e805
URL:https://www.uitagendarotterdam.nl/agenda/the-wailers-het-legendarische-
 reggaecollectief-van-bob-marley/
END:VEVENT
END:VCALENDAR
