BEGIN:VCALENDAR
PRODID:-//github.com/ical-org/ical.net//NONSGML ical.net 5.2.1//EN
VERSION:2.0
BEGIN:VTIMEZONE
TZID:Europe/Amsterdam
X-LIC-LOCATION:Europe/Amsterdam
END:VTIMEZONE
BEGIN:VEVENT
DESCRIPTION: Vlakbij de A13\, verstopt achter bomen en struiken\, ligt een 
 historische boerderij uit 1666 met een natuurgebied vol met bijzondere vog
 els. Een paar keer per jaar kun jij exclusief in dit bijzondere natuurgebi
 ed wandelen en vogels kijken.
DTEND;TZID=Local:20261107T120000
DTSTAMP:20260421T182035Z
DTSTART;TZID=Local:20261107T090000
LOCATION:Vergaderboerderij Ackerdijkse Plassen
SEQUENCE:0
SUMMARY:Wandelen door de Ackerdijkse Plassen
UID:c00efe49-3b5a-411c-ae0a-1d5a39c93416
URL:https://www.uitagendarotterdam.nl/agenda/wandelen-door-de-ackerdijkse-p
 lassen/
END:VEVENT
END:VCALENDAR
