BEGIN:VCALENDAR
PRODID:-//github.com/ical-org/ical.net//NONSGML ical.net 5.2.1//EN
VERSION:2.0
BEGIN:VTIMEZONE
TZID:Europe/Amsterdam
X-LIC-LOCATION:Europe/Amsterdam
END:VTIMEZONE
BEGIN:VEVENT
DESCRIPTION:Ten noorden van Rotterdam ligt natuurgebied de Ackerdijkse Plas
 sen. Vlakbij de A13\, verstopt achter bomen en struiken\, ligt een histori
 sche boerderij uit 1666 met een natuurgebied vol met bijzondere vogels.
DTEND;TZID=Local:20260704T120000
DTSTAMP:20260421T200928Z
DTSTART;TZID=Local:20260704T090000
LOCATION:Vergaderboerderij Ackerdijkse Plassen
SEQUENCE:0
SUMMARY:Wandelen tussen de zomervogels in Ackerdijkse Plassen
UID:933d5109-bdfc-4eea-a9cd-751c5aa22fcf
URL:https://www.uitagendarotterdam.nl/agenda/wandelen-tussen-de-zomervogels
 -in-ackerdijkse-plassen/
END:VEVENT
END:VCALENDAR
