BEGIN:VCALENDAR
PRODID:-//github.com/ical-org/ical.net//NONSGML ical.net 5.2.1//EN
VERSION:2.0
BEGIN:VTIMEZONE
TZID:Europe/Amsterdam
X-LIC-LOCATION:Europe/Amsterdam
END:VTIMEZONE
BEGIN:VEVENT
DESCRIPTION:Fotograferen\, dat doen we allemaal met ons mobieltje. Maar wat
  nou als je die niet mag gebruiken? 
DTEND;TZID=Local:20260429T123000
DTSTAMP:20260421T052748Z
DTSTART;TZID=Local:20260429T103000
LOCATION:Bibliotheek Hoogvliet
SEQUENCE:0
SUMMARY:Vakantieworkshop - fotografie
UID:3e1dea17-3d9f-4097-b31f-751c99c8b08b
URL:https://www.uitagendarotterdam.nl/agenda/vakantieworkshop-fotografie-8p
 lus-jaar-3/
END:VEVENT
END:VCALENDAR
