BEGIN:VCALENDAR
PRODID:-//github.com/ical-org/ical.net//NONSGML ical.net 5.2.1//EN
VERSION:2.0
BEGIN:VTIMEZONE
TZID:Europe/Amsterdam
X-LIC-LOCATION:Europe/Amsterdam
END:VTIMEZONE
BEGIN:VEVENT
DESCRIPTION:Van stoplicht tot lantaarnpaal: stickers zijn d? manier om iet
 s te zeggen. 
DTEND;TZID=Local:20260501T153000
DTSTAMP:20260421T051057Z
DTSTART;TZID=Local:20260501T140000
LOCATION:Centrale Bibliotheek
SEQUENCE:0
SUMMARY:Vakantieworkshop - stickers maken
UID:2b886a1e-1354-44f5-b917-661c6c27fd33
URL:https://www.uitagendarotterdam.nl/agenda/vakantieworkshop-stickers-make
 n-8plus-jaar/
END:VEVENT
END:VCALENDAR
