BEGIN:VCALENDAR
PRODID:-//github.com/ical-org/ical.net//NONSGML ical.net 5.2.1//EN
VERSION:2.0
BEGIN:VTIMEZONE
TZID:Europe/Amsterdam
X-LIC-LOCATION:Europe/Amsterdam
END:VTIMEZONE
BEGIN:VEVENT
DESCRIPTION:Van stoplicht tot lantaarnpaal: stickers zijn d? manier om iet
 s te zeggen. 
DTEND;TZID=Local:20260501T120000
DTSTAMP:20260421T051331Z
DTSTART;TZID=Local:20260501T103000
LOCATION:Centrale Bibliotheek
SEQUENCE:0
SUMMARY:Vakantieworkshop - stickers maken
UID:a3addf5e-78f0-4666-aeb9-b268541f4932
URL:https://www.uitagendarotterdam.nl/agenda/vakantieworkshop-stickers-make
 n-8plus-jaar/
END:VEVENT
END:VCALENDAR
