BEGIN:VCALENDAR
PRODID:-//github.com/ical-org/ical.net//NONSGML ical.net 5.2.1//EN
VERSION:2.0
BEGIN:VTIMEZONE
TZID:Europe/Amsterdam
X-LIC-LOCATION:Europe/Amsterdam
END:VTIMEZONE
BEGIN:VEVENT
DESCRIPTION:Van stoplicht tot lantaarnpaal: stickers zijn d? manier om iet
 s te zeggen. 
DTEND;TZID=Local:20260428T153000
DTSTAMP:20260421T050823Z
DTSTART;TZID=Local:20260428T140000
LOCATION:Centrale Bibliotheek
SEQUENCE:0
SUMMARY:Vakantieworkshop - stickers maken
UID:054605af-11f4-41fd-b4d9-64dc12298bd6
URL:https://www.uitagendarotterdam.nl/agenda/vakantieworkshop-stickers-make
 n-8plus-jaar/
END:VEVENT
END:VCALENDAR
