BEGIN:VCALENDAR
PRODID:-//github.com/ical-org/ical.net//NONSGML ical.net 5.2.1//EN
VERSION:2.0
BEGIN:VTIMEZONE
TZID:Europe/Amsterdam
X-LIC-LOCATION:Europe/Amsterdam
END:VTIMEZONE
BEGIN:VEVENT
DESCRIPTION:Fotograferen\, dat doen we allemaal met ons mobieltje. Maar wat
  nou als je die niet mag gebruiken? 
DTEND;TZID=Local:20260506T123000
DTSTAMP:20260421T043531Z
DTSTART;TZID=Local:20260506T103000
LOCATION:Centrale Bibliotheek
SEQUENCE:0
SUMMARY:Vakantieworkshop - fotografie
UID:582fa01e-4b14-4a69-8f6b-ead0f51c6c0d
URL:https://www.uitagendarotterdam.nl/agenda/vakantieworkshop-fotografie-8p
 lus-jaar-2/
END:VEVENT
END:VCALENDAR
