BEGIN:VCALENDAR
PRODID:-//github.com/ical-org/ical.net//NONSGML ical.net 5.2.1//EN
VERSION:2.0
BEGIN:VTIMEZONE
TZID:Europe/Amsterdam
X-LIC-LOCATION:Europe/Amsterdam
END:VTIMEZONE
BEGIN:VEVENT
DESCRIPTION:Fotograferen\, dat doen we allemaal met ons mobieltje. Maar wat
  nou als je die niet mag gebruiken? 
DTEND;TZID=Local:20260429T160000
DTSTAMP:20260421T124658Z
DTSTART;TZID=Local:20260429T140000
LOCATION:Centrale Bibliotheek
SEQUENCE:0
SUMMARY:Vakantieworkshop - fotografie
UID:f34b63ae-2534-41ba-9a2e-65cd94cf8daa
URL:https://www.uitagendarotterdam.nl/agenda/vakantieworkshop-fotografie-8p
 lus-jaar-1/
END:VEVENT
END:VCALENDAR
