BEGIN:VCALENDAR
PRODID:-//github.com/ical-org/ical.net//NONSGML ical.net 5.2.1//EN
VERSION:2.0
BEGIN:VTIMEZONE
TZID:Europe/Amsterdam
X-LIC-LOCATION:Europe/Amsterdam
END:VTIMEZONE
BEGIN:VEVENT
DESCRIPTION:Glenda Peters is een krachtige stem met een rijk muzikaal verha
 al waarmee  ze haar Surinaamse roots eert en persoonlijke ervaringen verta
 alt naar warme\, herkenbare liedjes.
DTEND;TZID=Local:20260705T150000
DTSTAMP:20260421T054341Z
DTSTART;TZID=Local:20260705T140000
LOCATION:LCC Romeynshof
SEQUENCE:0
SUMMARY:Glenda Peters ? Zondagmiddag Buurtconcerten
UID:3a97062b-1916-4916-9a62-d45779f403fe
URL:https://www.uitagendarotterdam.nl/agenda/glenda-peters-zondagmiddag-buu
 rtconcerten/
END:VEVENT
END:VCALENDAR
