BEGIN:VCALENDAR
PRODID:-//github.com/ical-org/ical.net//NONSGML ical.net 5.2.1//EN
VERSION:2.0
BEGIN:VTIMEZONE
TZID:Europe/Amsterdam
X-LIC-LOCATION:Europe/Amsterdam
END:VTIMEZONE
BEGIN:VEVENT
DESCRIPTION:Fotograferen\, dat doen we allemaal met ons mobieltje. Maar wat
  nou als je die niet mag gebruiken? 
DTEND;TZID=Local:20260506T160000
DTSTAMP:20260421T072016Z
DTSTART;TZID=Local:20260506T140000
LOCATION:Bibliotheek Ommoord
SEQUENCE:0
SUMMARY:Vakantieworkshop - fotografie
UID:422a5e03-5f32-45ef-b0d9-110cb431aeb3
URL:https://www.uitagendarotterdam.nl/agenda/vakantieworkshop-fotografie-8p
 lus-jaar/
END:VEVENT
END:VCALENDAR
