BEGIN:VCALENDAR
PRODID:-//github.com/ical-org/ical.net//NONSGML ical.net 5.2.1//EN
VERSION:2.0
BEGIN:VTIMEZONE
TZID:Europe/Amsterdam
X-LIC-LOCATION:Europe/Amsterdam
END:VTIMEZONE
BEGIN:VEVENT
DESCRIPTION:Geniet van de warrior princess 'sy-ki' die haar apocalyptische 
 elektronische mythologische debuut solo album 'Princess of Mycenae' viert 
 op de Boot V11.
DTEND;TZID=Local:20260423T233000
DTSTAMP:20260421T043531Z
DTSTART;TZID=Local:20260423T200000
LOCATION:Vessel 11
SEQUENCE:0
SUMMARY:Album Releaseshow 'sy-ki'
UID:23e0fcf1-1bb6-49d8-bcdb-2e7a55f67400
URL:https://www.uitagendarotterdam.nl/agenda/album-releaseshow-sy-ki/
END:VEVENT
END:VCALENDAR
