BEGIN:VCALENDAR
PRODID:-//github.com/ical-org/ical.net//NONSGML ical.net 5.2.1//EN
VERSION:2.0
BEGIN:VTIMEZONE
TZID:Europe/Amsterdam
X-LIC-LOCATION:Europe/Amsterdam
END:VTIMEZONE
BEGIN:VEVENT
DESCRIPTION:Just Comedy presenteert een avond vol entertainment met een lin
 e-up van topcomedians\, opkomend talent en verrassende muzikale intermezzo
 's. Verwacht een avond vol humor en improvisatie.
DTEND;TZID=Local:20260613T220000
DTSTAMP:20260422T091059Z
DTSTART;TZID=Local:20260613T203000
LOCATION:Studio de Bakkerij
SEQUENCE:0
SUMMARY:Just Comedy
UID:3d6b1c8e-be0b-4174-a686-5669951347c7
URL:https://www.uitagendarotterdam.nl/agenda/just-comedy/
END:VEVENT
END:VCALENDAR
