BEGIN:VCALENDAR
PRODID:-//github.com/ical-org/ical.net//NONSGML ical.net 5.2.1//EN
VERSION:2.0
BEGIN:VTIMEZONE
TZID:Europe/Amsterdam
X-LIC-LOCATION:Europe/Amsterdam
END:VTIMEZONE
BEGIN:VEVENT
DESCRIPTION:SKVR geeft jou en je jonge kind een heerlijke woensdagochtend c
 adeau. Je dreumes\, peuter of kleuter ontdekt steeds weer iets nieuws. Bij
  SKVR Hillevliet.
DTEND;TZID=Local:20260422T111500
DTSTAMP:20260421T052629Z
DTSTART;TZID=Local:20260422T100000
LOCATION:SKVR Hillevliet
SEQUENCE:0
SUMMARY:Beleef het mee 2026
UID:13e448c6-c31c-4277-a384-608061d201d5
URL:https://www.uitagendarotterdam.nl/agenda/beleef-het-mee-2026-1/
END:VEVENT
END:VCALENDAR
