BEGIN:VCALENDAR
PRODID:-//github.com/ical-org/ical.net//NONSGML ical.net 5.2.1//EN
VERSION:2.0
BEGIN:VTIMEZONE
TZID:Europe/Amsterdam
X-LIC-LOCATION:Europe/Amsterdam
END:VTIMEZONE
BEGIN:VEVENT
DESCRIPTION:Voor fans van: Pokey LaFarge\, Tom Waits\, Leon Redbone\, The D
 ead South.
DTEND;TZID=Local:20260524T230000
DTSTAMP:20260421T210446Z
DTSTART;TZID=Local:20260524T203000
LOCATION:Rotown
SEQUENCE:0
SUMMARY:C. W. Stoneking
UID:fa731a77-385a-4f69-bc3b-319b96a07dae
URL:https://www.uitagendarotterdam.nl/agenda/c-w-stoneking/
END:VEVENT
END:VCALENDAR
