BEGIN:VCALENDAR
PRODID:-//github.com/ical-org/ical.net//NONSGML ical.net 5.2.1//EN
VERSION:2.0
BEGIN:VTIMEZONE
TZID:Europe/Amsterdam
X-LIC-LOCATION:Europe/Amsterdam
END:VTIMEZONE
BEGIN:VEVENT
DESCRIPTION:Het lijkt een zorgeloze middag in de Tulpstraat. De vogeltjes f
 luiten\, de zon schijnt\, de tuinstoelen worden uitgeklapt en de BBQ gaat 
 aan.
DTEND;TZID=Local:20260428T153000
DTSTAMP:20260421T082951Z
DTSTART;TZID=Local:20260428T143000
LOCATION:Studio de Bakkerij
SEQUENCE:0
SUMMARY:Tuinbazen- Dender Cartoontheater
UID:6d5a604e-ecbb-4abc-b3c4-11592284efde
URL:https://www.uitagendarotterdam.nl/agenda/tuinbazen-dender-cartoontheate
 r-5plus/
END:VEVENT
END:VCALENDAR
