BEGIN:VCALENDAR
PRODID:-//github.com/ical-org/ical.net//NONSGML ical.net 5.2.1//EN
VERSION:2.0
BEGIN:VTIMEZONE
TZID:Europe/Amsterdam
X-LIC-LOCATION:Europe/Amsterdam
END:VTIMEZONE
BEGIN:VEVENT
DESCRIPTION:Voor fans van: Lewis Capaldi\, Noah Kahan\, James Bay\, Hozier\
 , Bahamas
DTEND;TZID=Local:20260424T230000
DTSTAMP:20260421T052815Z
DTSTART;TZID=Local:20260424T211500
LOCATION:Rotown
SEQUENCE:0
SUMMARY:Billy Raffoul
UID:e4430245-2776-44c8-b0a3-31364eaca091
URL:https://www.uitagendarotterdam.nl/agenda/billy-raffoul-plus-booshle-g/
END:VEVENT
END:VCALENDAR
