BEGIN:VCALENDAR
PRODID:-//github.com/ical-org/ical.net//NONSGML ical.net 5.2.1//EN
VERSION:2.0
BEGIN:VTIMEZONE
TZID:Europe/Amsterdam
X-LIC-LOCATION:Europe/Amsterdam
END:VTIMEZONE
BEGIN:VEVENT
DESCRIPTION:Simba kroont zich tot leeuwenkoning van de Pride Lands. Hij is 
 er sterk van overtuigd dat zijn dochter Kiara hetzelfde pad zal bewandelen
 .
DTEND;TZID=Local:20260429T163000
DTSTAMP:20260421T072322Z
DTSTART;TZID=Local:20260429T143000
LOCATION:Studio de Bakkerij
SEQUENCE:0
SUMMARY:Mufasa: De Leeuwenkoning
UID:3f8bc54c-5e9a-4586-b0b6-395d41d66b2d
URL:https://www.uitagendarotterdam.nl/agenda/mufasa-de-leeuwenkoning-8plus/
END:VEVENT
END:VCALENDAR
