BEGIN:VCALENDAR
PRODID:-//github.com/ical-org/ical.net//NONSGML ical.net 5.2.1//EN
VERSION:2.0
BEGIN:VTIMEZONE
TZID:Europe/Amsterdam
X-LIC-LOCATION:Europe/Amsterdam
END:VTIMEZONE
BEGIN:VEVENT
DESCRIPTION:Voor fans van: Millionaire\, Muse\, SONS.
DTEND;TZID=Local:20260508T230000
DTSTAMP:20260423T090744Z
DTSTART;TZID=Local:20260508T213000
LOCATION:Rotown
SEQUENCE:0
SUMMARY:The Hickey Underworld
UID:0ef0cd8c-0767-477b-b537-5b624d953bc3
URL:https://www.uitagendarotterdam.nl/agenda/the-hickey-underworld/
END:VEVENT
END:VCALENDAR
