BEGIN:VCALENDAR
PRODID:-//github.com/ical-org/ical.net//NONSGML ical.net 5.2.1//EN
VERSION:2.0
BEGIN:VTIMEZONE
TZID:Europe/Amsterdam
X-LIC-LOCATION:Europe/Amsterdam
END:VTIMEZONE
BEGIN:VEVENT
DESCRIPTION:Voor fans van: Django Django\, Metronomy\, Teleman\, Two Door C
 inema Club.
DTEND;TZID=Local:20270214T230000
DTSTAMP:20260421T043709Z
DTSTART;TZID=Local:20270214T203000
LOCATION:Rotown
SEQUENCE:0
SUMMARY:Kytes
UID:a2ece481-3457-4476-af00-e856ee4502a6
URL:https://www.uitagendarotterdam.nl/agenda/kytes/
END:VEVENT
END:VCALENDAR
