BEGIN:VCALENDAR
PRODID:-//github.com/ical-org/ical.net//NONSGML ical.net 5.2.1//EN
VERSION:2.0
BEGIN:VTIMEZONE
TZID:Europe/Amsterdam
X-LIC-LOCATION:Europe/Amsterdam
END:VTIMEZONE
BEGIN:VEVENT
DESCRIPTION:Het gaat ?cht gebeuren: op zondag 20 september start de Rotter
 dam Half 2026. Een super toffe halve marathon over het zuidelijk deel van 
 de stad. 
DTEND;TZID=Local:20260920T230000
DTSTAMP:20260421T071848Z
DTSTART;TZID=Local:20260920T090000
LOCATION:Maassilo
SEQUENCE:0
SUMMARY:Rotterdam Half
UID:bb0a40f9-1f08-44ce-899c-2d7eb35688d3
URL:https://www.uitagendarotterdam.nl/agenda/rotterdam-half/
END:VEVENT
END:VCALENDAR
