BEGIN:VCALENDAR
PRODID:-//github.com/ical-org/ical.net//NONSGML ical.net 5.2.1//EN
VERSION:2.0
BEGIN:VTIMEZONE
TZID:Europe/Amsterdam
X-LIC-LOCATION:Europe/Amsterdam
END:VTIMEZONE
BEGIN:VEVENT
DESCRIPTION:Een filosofische ontdekkingsreis over keuzes en doen wat je wil
DTEND;TZID=Local:20260424T223000
DTSTAMP:20260421T052706Z
DTSTART;TZID=Local:20260424T203000
LOCATION:Kleine Walhalla
SEQUENCE:0
SUMMARY:Als Ik Jou Was (try-out) - David van Rosmalen
UID:57e651aa-b93f-4268-b47d-e9e65ba954d1
URL:https://www.uitagendarotterdam.nl/agenda/als-ik-jou-was-try-out-david-v
 an-rosmalen/
END:VEVENT
END:VCALENDAR
