BEGIN:VCALENDAR
PRODID:-//github.com/ical-org/ical.net//NONSGML ical.net 5.2.1//EN
VERSION:2.0
BEGIN:VTIMEZONE
TZID:Europe/Amsterdam
X-LIC-LOCATION:Europe/Amsterdam
END:VTIMEZONE
BEGIN:VEVENT
DESCRIPTION:De drievoudig BAFTA winnende stand up comedian Mo Gilligan a.k.
 a "The funniest man of Britain" keert terug naar het podium met zijn nieuw
 e wereldtournee getiteld ?The Mo You Know 2026 World Tour'. 
DTSTAMP:20260421T052747Z
DTSTART;TZID=Local:20261015T200000
LOCATION:oude Luxor Theater
SEQUENCE:0
SUMMARY:Mo Gilligan - The Mo You Know World Tour
UID:e3e667b6-dac4-4a1a-9af1-3a5b2008d9aa
URL:https://www.uitagendarotterdam.nl/agenda/mo-gilligan-the-mo-you-know-wo
 rld-tour/
END:VEVENT
END:VCALENDAR
