BEGIN:VCALENDAR
PRODID:-//github.com/ical-org/ical.net//NONSGML ical.net 5.2.1//EN
VERSION:2.0
BEGIN:VTIMEZONE
TZID:Europe/Amsterdam
X-LIC-LOCATION:Europe/Amsterdam
END:VTIMEZONE
BEGIN:VEVENT
DESCRIPTION:Het Amsterdamse Hiqpy voelt als een wervelwind waarin talloze i
 nvloeden samenkomen. 
DTEND;TZID=Local:20260509T230000
DTSTAMP:20260421T052747Z
DTSTART;TZID=Local:20260509T213000
LOCATION:Rotown
SEQUENCE:0
SUMMARY:Hiqpy
UID:2b40e553-c0e4-49e3-b5b3-101f5779036a
URL:https://www.uitagendarotterdam.nl/agenda/hiqpy/
END:VEVENT
END:VCALENDAR
