BEGIN:VCALENDAR
PRODID:-//github.com/ical-org/ical.net//NONSGML ical.net 5.2.1//EN
VERSION:2.0
BEGIN:VTIMEZONE
TZID:Europe/Amsterdam
X-LIC-LOCATION:Europe/Amsterdam
END:VTIMEZONE
BEGIN:VEVENT
DESCRIPTION:De trippende triptiek is terug! Rebirth Part II: HEAVEN gaat ve
 rder op het punt waar de koortsachtige modderdroom genaamd Rebirth Part I.
  HELL eindigde.?
DTEND;TZID=Local:20260514T214500
DTSTAMP:20260421T043650Z
DTSTART;TZID=Local:20260514T201500
LOCATION:TR8 William Boothlaan
SEQUENCE:0
SUMMARY:Rebirth Part II. HEAVEN Collectief Het Paradijs
UID:204f5cfe-8e8f-4c35-ab2a-6fa3bcf5d695
URL:https://www.uitagendarotterdam.nl/agenda/rebirth-part-ii-heaven-collect
 ief-het-paradijs/
END:VEVENT
END:VCALENDAR
