BEGIN:VCALENDAR
PRODID:-//github.com/ical-org/ical.net//NONSGML ical.net 5.2.1//EN
VERSION:2.0
BEGIN:VTIMEZONE
TZID:Europe/Amsterdam
X-LIC-LOCATION:Europe/Amsterdam
END:VTIMEZONE
BEGIN:VEVENT
DESCRIPTION:In zijn vijfde solo brandt Kees los over zijn nieuwe leven. Lek
 ker luchtig met verhalen en retegoeie grappen in een rap tempo.?
DTSTAMP:20260421T043311Z
DTSTART;TZID=Local:20260603T203000
LOCATION:Theater Zuidplein
SEQUENCE:0
SUMMARY:Dit gaat allemaal van jullie eigen tijd af Kees van Amstel
UID:c8882443-0410-48d5-bd1b-a5bea8e0dec0
URL:https://www.uitagendarotterdam.nl/agenda/dit-gaat-allemaal-van-jullie-e
 igen-tijd-af-kees-van-amstel/
END:VEVENT
END:VCALENDAR
