BEGIN:VCALENDAR
PRODID:-//github.com/ical-org/ical.net//NONSGML ical.net 5.2.1//EN
VERSION:2.0
BEGIN:VTIMEZONE
TZID:Europe/Amsterdam
X-LIC-LOCATION:Europe/Amsterdam
END:VTIMEZONE
BEGIN:VEVENT
DESCRIPTION:Sinfonia Rotterdam o.l.v. Conrad van Alphen. 
DTSTAMP:20260421T051603Z
DTSTART;TZID=Local:20260606T193000
LOCATION:De Doelen
SEQUENCE:0
SUMMARY:Mozart Feest! Galaconcert met Pretty Yende
UID:e085c5c2-a2d4-4ecd-b456-ff9aa41cfb8d
URL:https://www.uitagendarotterdam.nl/agenda/mozart-feest-galaconcert-met-p
 retty-yende/
END:VEVENT
END:VCALENDAR
