BEGIN:VCALENDAR
PRODID:-//github.com/ical-org/ical.net//NONSGML ical.net 5.2.1//EN
VERSION:2.0
BEGIN:VTIMEZONE
TZID:Europe/Amsterdam
X-LIC-LOCATION:Europe/Amsterdam
END:VTIMEZONE
BEGIN:VEVENT
DESCRIPTION:Avondje ouderwetse grappen\, gekke typetjes\, scherpe opmerking
 en en muzikaal talent. Dat kan er maar ??n zijn. Daar is hij weer! Nabil
 .
DTSTAMP:20260421T072305Z
DTSTART;TZID=Local:20260605T203000
LOCATION:Theater Zuidplein
SEQUENCE:0
SUMMARY:Daar is hij weer! (try-out) Nabil
UID:fa2acf0f-f21a-4646-976c-e5cf0ae2200c
URL:https://www.uitagendarotterdam.nl/agenda/daar-is-hij-weer-try-out-nabil
 /
END:VEVENT
END:VCALENDAR
