BEGIN:VCALENDAR
PRODID:-//github.com/ical-org/ical.net//NONSGML ical.net 5.2.1//EN
VERSION:2.0
BEGIN:VTIMEZONE
TZID:Europe/Amsterdam
X-LIC-LOCATION:Europe/Amsterdam
END:VTIMEZONE
BEGIN:VEVENT
DESCRIPTION:Zon\, zee en? een relatiecrisis op teenslippers.
DTEND;TZID=Local:20260424T224500
DTSTAMP:20260421T052629Z
DTSTART;TZID=Local:20260424T203000
LOCATION:Kantine Walhalla
SEQUENCE:0
SUMMARY:Adam & Evert (met Rian Gerritsen)
UID:1d6b65d7-afb3-4fee-b3dd-caa6abc71954
URL:https://www.uitagendarotterdam.nl/agenda/adam-evert-met-rian-gerritsen/
END:VEVENT
END:VCALENDAR
