BEGIN:VCALENDAR
PRODID:-//github.com/ical-org/ical.net//NONSGML ical.net 5.2.1//EN
VERSION:2.0
BEGIN:VTIMEZONE
TZID:Europe/Amsterdam
X-LIC-LOCATION:Europe/Amsterdam
END:VTIMEZONE
BEGIN:VEVENT
DESCRIPTION:Ontwapenend en absurdistisch\, met antwoord op (meer en minder)
  belangrijke vragen. 
DTEND;TZID=Local:20260423T224500
DTSTAMP:20260421T043624Z
DTSTART;TZID=Local:20260423T203000
LOCATION:Kantine Walhalla
SEQUENCE:0
SUMMARY:Stoorzender - Remy Evers
UID:badd4756-3692-4427-92d5-a392f2d6ba64
URL:https://www.uitagendarotterdam.nl/agenda/stoorzender-remy-evers/
END:VEVENT
END:VCALENDAR
