BEGIN:VCALENDAR
PRODID:-//github.com/ical-org/ical.net//NONSGML ical.net 5.2.1//EN
VERSION:2.0
BEGIN:VTIMEZONE
TZID:Europe/Amsterdam
X-LIC-LOCATION:Europe/Amsterdam
END:VTIMEZONE
BEGIN:VEVENT
DESCRIPTION:Vijf jaar was hij weg van de planken ? maar gelukkig is Nasrd
 in Dchar terug. Na vier bijzonder succesvolle voorstellingen over vier bij
 zonder persoonlijke verhalen maakt hij nu zijn misschien wel intiemste voo
 rstelling\, samen met zijn vaste regisseur Floris van Delft. ?
DTEND;TZID=Local:20260510T171500
DTSTAMP:20260423T090611Z
DTSTART;TZID=Local:20260510T160000
LOCATION:TR25 Schouwburg
SEQUENCE:0
SUMMARY:Wat als? Nasrdin Dchar
UID:c56b9585-be13-4ff4-8c9a-7a7d64e62fb3
URL:https://www.uitagendarotterdam.nl/agenda/wat-als-nasrdin-dchar/
END:VEVENT
END:VCALENDAR
