BEGIN:VCALENDAR
PRODID:-//github.com/ical-org/ical.net//NONSGML ical.net 5.2.1//EN
VERSION:2.0
BEGIN:VTIMEZONE
TZID:Europe/Amsterdam
X-LIC-LOCATION:Europe/Amsterdam
END:VTIMEZONE
BEGIN:VEVENT
DESCRIPTION:Vijf jaar was hij weg van de planken ? maar gelukkig is Nasrd
 in Dchar terug. Na vier bijzonder succesvolle voorstellingen over vier bij
 zonder persoonlijke verhalen maakt hij nu zijn misschien wel intiemste voo
 rstelling\, samen met zijn vaste regisseur Floris van Delft. ?
DTEND;TZID=Local:20260509T211500
DTSTAMP:20260423T092804Z
DTSTART;TZID=Local:20260509T200000
LOCATION:TR25 Schouwburg
SEQUENCE:0
SUMMARY:Wat als? Nasrdin Dchar
UID:dfbcfcb2-fc8b-4dd0-b94f-569c01cbf4d7
URL:https://www.uitagendarotterdam.nl/agenda/wat-als-nasrdin-dchar/
END:VEVENT
END:VCALENDAR
