BEGIN:VCALENDAR
PRODID:-//github.com/ical-org/ical.net//NONSGML ical.net 5.2.1//EN
VERSION:2.0
BEGIN:VTIMEZONE
TZID:Europe/Amsterdam
X-LIC-LOCATION:Europe/Amsterdam
END:VTIMEZONE
BEGIN:VEVENT
DESCRIPTION:Mokhallad Rasem en Kuno Bakker veroverden de afgelopen jaren de
  harten van publiek en pers met hun Habibi Trilogie. 
DTEND;TZID=Local:20260517T161500
DTSTAMP:20260421T050930Z
DTSTART;TZID=Local:20260517T150000
LOCATION:TR25 Schouwburg
SEQUENCE:0
SUMMARY:Sneeuwpanter Mokhallad Rasem / Kuno Bakker
UID:f95e1825-da6e-4696-925e-6406eb084928
URL:https://www.uitagendarotterdam.nl/agenda/sneeuwpanter-mokhallad-rasem-k
 uno-bakker/
END:VEVENT
END:VCALENDAR
