BEGIN:VCALENDAR
PRODID:-//github.com/ical-org/ical.net//NONSGML ical.net 5.2.1//EN
VERSION:2.0
BEGIN:VTIMEZONE
TZID:Europe/Amsterdam
X-LIC-LOCATION:Europe/Amsterdam
END:VTIMEZONE
BEGIN:VEVENT
DESCRIPTION:Vrouw en vlees\, schoonheid en vergankelijkheid\, rauw en teder
 . In Co(te)lette toont Ann Van den Broek drie vrouwelijke dansers in een i
 ntiem kader\, in een vicieuze cirkel tussen verlangen en bevrediging. ?
DTEND;TZID=Local:20260508T212000
DTSTAMP:20260421T052705Z
DTSTART;TZID=Local:20260508T201500
LOCATION:TR25 Schouwburg
SEQUENCE:0
SUMMARY:Co(te)lette WardWard
UID:a38292f3-06dc-46ee-9715-7825ebc9a4ca
URL:https://www.uitagendarotterdam.nl/agenda/co-te-lette-wardward/
END:VEVENT
END:VCALENDAR
