BEGIN:VCALENDAR
PRODID:-//github.com/ical-org/ical.net//NONSGML ical.net 5.2.1//EN
VERSION:2.0
BEGIN:VTIMEZONE
TZID:Europe/Amsterdam
X-LIC-LOCATION:Europe/Amsterdam
END:VTIMEZONE
BEGIN:VEVENT
DESCRIPTION:Solo gespeeld door alleskunner Eric Corton (ook op gitaar!)\, m
 et het verhaal van een vader die langzaam kwijtraakt wie hij is. Een voors
 telling die ons stil laat staan bij de honderdduizenden mensen met dementi
 e en hun mantelzorgers.?
DTSTAMP:20260421T071649Z
DTSTART;TZID=Local:20260527T203000
LOCATION:Theater Zuidplein
SEQUENCE:0
SUMMARY:PA Eric Corton - Solo Stories
UID:91b34603-d3ef-4578-856e-de6dd78eb069
URL:https://www.uitagendarotterdam.nl/agenda/pa-eric-corton-solo-stories/
END:VEVENT
END:VCALENDAR
