BEGIN:VCALENDAR
PRODID:-//github.com/ical-org/ical.net//NONSGML ical.net 5.2.1//EN
VERSION:2.0
BEGIN:VTIMEZONE
TZID:Europe/Amsterdam
X-LIC-LOCATION:Europe/Amsterdam
END:VTIMEZONE
BEGIN:VEVENT
DESCRIPTION:In Limited Edition onderzoekt Marco zijn roots en laat een kant
  van zichzelf zien die eerlijk\, hard en meedogenloos is. Kent hij zichzel
 f wel\, of heeft hij zich anders voorgedaan?
DTSTAMP:20260421T051542Z
DTSTART;TZID=Local:20260501T201500
LOCATION:Theater Zuidplein
SEQUENCE:0
SUMMARY:Limited Edition (try-out) Marco Lopes
UID:78a671ca-8876-448e-9b3f-a66e4e63e6c2
URL:https://www.uitagendarotterdam.nl/agenda/limited-edition-try-out-marco-
 lopes/
END:VEVENT
END:VCALENDAR
