BEGIN:VCALENDAR
PRODID:-//github.com/ical-org/ical.net//NONSGML ical.net 5.2.1//EN
VERSION:2.0
BEGIN:VTIMEZONE
TZID:Europe/Amsterdam
X-LIC-LOCATION:Europe/Amsterdam
END:VTIMEZONE
BEGIN:VEVENT
DESCRIPTION:Met scherpe observaties en hilarische verhalen houdt Anuar je e
 en spiegel voor en laat hij je keihard lachen om je eigen tekortkomingen..
DTSTAMP:20260421T050930Z
DTSTART;TZID=Local:20260508T203000
LOCATION:Theater Zuidplein
SEQUENCE:0
SUMMARY:Ongeduldig Geduldig Anuar
UID:4738643c-aae7-432d-8c49-0c50517b2190
URL:https://www.uitagendarotterdam.nl/agenda/ongeduldig-geduldig-anuar/
END:VEVENT
END:VCALENDAR
