BEGIN:VCALENDAR
PRODID:-//github.com/ical-org/ical.net//NONSGML ical.net 5.2.1//EN
VERSION:2.0
BEGIN:VTIMEZONE
TZID:Europe/Amsterdam
X-LIC-LOCATION:Europe/Amsterdam
END:VTIMEZONE
BEGIN:VEVENT
DESCRIPTION:Tim Hartog is terug met het vervolg van zijn succesvolle tour F
 rictie ? vol scherpe observaties\, ontwapenende charme en rake grappen. 
 Een cabaretvoorstelling over ongemak\, innerlijke strijd en de glans die d
 aaruit voortkomt.
DTEND;TZID=Local:20260516T213000
DTSTAMP:20260421T082751Z
DTSTART;TZID=Local:20260516T200000
LOCATION:oude Luxor Theater
SEQUENCE:0
SUMMARY:Tim Hartog Frictie
UID:9220efd0-11eb-45bc-b5ca-c15adc674722
URL:https://www.uitagendarotterdam.nl/agenda/tim-hartog-frictie/
END:VEVENT
END:VCALENDAR
