BEGIN:VCALENDAR
PRODID:-//github.com/ical-org/ical.net//NONSGML ical.net 5.2.1//EN
VERSION:2.0
BEGIN:VTIMEZONE
TZID:Europe/Amsterdam
X-LIC-LOCATION:Europe/Amsterdam
END:VTIMEZONE
BEGIN:VEVENT
DESCRIPTION:Tineke Schouten is terug met Femme Vitaal ? een hilarische en
  ontroerende ode aan het ouder worden ?n jong van geest blijven. Met haar
  kenmerkende energie\, typetjes en liedjes laat ze zien dat stilstaan geen
  optie is.
DTSTAMP:20260421T072137Z
DTSTART;TZID=Local:20260524T140000
LOCATION:nieuwe Luxor Theater
SEQUENCE:0
SUMMARY:Tineke Schouten Femme Vitaal
UID:c3e00f3d-d82f-4f9c-a911-fc77fcde17c3
URL:https://www.uitagendarotterdam.nl/agenda/tineke-schouten-femme-vitaal/
END:VEVENT
END:VCALENDAR
