BEGIN:VCALENDAR
PRODID:-//github.com/ical-org/ical.net//NONSGML ical.net 5.2.1//EN
VERSION:2.0
BEGIN:VTIMEZONE
TZID:Europe/Amsterdam
X-LIC-LOCATION:Europe/Amsterdam
END:VTIMEZONE
BEGIN:VEVENT
DESCRIPTION:Tineke Schouten is terug met Femme Vitaal ? een hilarische en
  ontroerende ode aan het ouder worden ?n jong van geest blijven. Met haar
  kenmerkende energie\, typetjes en liedjes laat ze zien dat stilstaan geen
  optie is.
DTSTAMP:20260421T072057Z
DTSTART;TZID=Local:20260522T200000
LOCATION:nieuwe Luxor Theater
SEQUENCE:0
SUMMARY:Tineke Schouten Femme Vitaal
UID:125a3d67-abf4-469f-bd1a-d2893ad1bc0a
URL:https://www.uitagendarotterdam.nl/agenda/tineke-schouten-femme-vitaal/
END:VEVENT
END:VCALENDAR
