BEGIN:VCALENDAR
PRODID:-//github.com/ical-org/ical.net//NONSGML ical.net 5.2.1//EN
VERSION:2.0
BEGIN:VTIMEZONE
TZID:Europe/Amsterdam
X-LIC-LOCATION:Europe/Amsterdam
END:VTIMEZONE
BEGIN:VEVENT
DESCRIPTION:Rotterdams Philharmonisch Orkest. 
DTSTAMP:20260421T052746Z
DTSTART;TZID=Local:20260510T141500
LOCATION:De Doelen
SEQUENCE:0
SUMMARY:Sjostakovitsj en Prokofjev Rotterdams Philharmonisch Orkest
UID:b45be754-f5e6-49e1-a55b-271d591162c5
URL:https://www.uitagendarotterdam.nl/agenda/sjostakovitsj-en-prokofjev-rot
 terdams-philharmonisch-orkest/
END:VEVENT
END:VCALENDAR
